BEGIN:VCALENDAR
VERSION:2.0
PRODID:icalendar-ruby
CALSCALE:GREGORIAN
METHOD:PUBLISH
BEGIN:VEVENT
DTSTAMP:20260425T223054Z
UID:128-1048763@madisonbaptists.org
DTSTART;VALUE=DATE:20260622
DTEND;VALUE=DATE:20260626
CLASS:PUBLIC
CREATED:20260423T105349
DESCRIPTION:If your church is interested in feeding the local teens on thei
 r Rocket City Missions worksite for the week or one meal\, please call the
  MBA office 256-536-0015 or email Jon Hathcock jon@madisonbaptists.org\n 
LAST-MODIFIED:20260423T105349
LOCATION:
SUMMARY:Feed Local Rocket City Mission Teams
URL;VALUE=URI:https://madisonbaptists.com/events/feed-local-rocket-city-mis
 sion-teams/2026-06-22
ATTACH;FILENAME=rocketcityfeed.JPG;FMTTYPE=image/jpeg:https://dq5pwpg1q8ru0
 .cloudfront.net/2026/04/23/17/53/49/d87c6890-47f0-47eb-9d74-8631fcad7a70/r
 ocketcityfeed.JPG
END:VEVENT
END:VCALENDAR
